BEGIN:VCALENDAR
VERSION:2.0
PRODID:-//Riverside Toronto - ECPv6.6.4.2//NONSGML v1.0//EN
CALSCALE:GREGORIAN
METHOD:PUBLISH
X-WR-CALNAME:Riverside Toronto
X-ORIGINAL-URL:https://riverside-to.com
X-WR-CALDESC:Events for Riverside Toronto
REFRESH-INTERVAL;VALUE=DURATION:PT1H
X-Robots-Tag:noindex
X-PUBLISHED-TTL:PT1H
BEGIN:VTIMEZONE
TZID:America/Toronto
BEGIN:DAYLIGHT
TZOFFSETFROM:-0500
TZOFFSETTO:-0400
TZNAME:EDT
DTSTART:20230312T070000
END:DAYLIGHT
BEGIN:STANDARD
TZOFFSETFROM:-0400
TZOFFSETTO:-0500
TZNAME:EST
DTSTART:20231105T060000
END:STANDARD
END:VTIMEZONE
BEGIN:VEVENT
DTSTART;TZID=America/Toronto:20231211T000000
DTEND;TZID=America/Toronto:20231217T120000
DTSTAMP:20260420T070316
CREATED:20231207T201431Z
LAST-MODIFIED:20231211T141008Z
UID:23587-1702252800-1702814400@riverside-to.com
SUMMARY:WINDOW WONDERLAND - Champions of Queen East '23 Edition
DESCRIPTION:ITs ON!!! Vote now for your fave holiday windows in our Champions of Queen Street East Window Wonderland contest!⠀\nThe Riverside BIA and Leslieville BIA invite you to **Vote & Enter our Raffle** for your TOP 4 favourite window designs until December 17th at noon \nThe Windows you see here have been voted tops in their local contests and are now coming head to head for bragging rights as ‘Champions of Queen East!!!⠀ \n***By entering our Raffle you will entered into a draw for a PACK OF LOCAL GIFT CARDS from Queen Street East businesses – Winners will be announced on Dec 18th!***⠀ \nAbout Champions of Queen East Window Wonderland contest: ⠀ \nWe’ve collaborated with local businesses\, artists\, and others to bring light and inspiration to local storefronts this holiday season along Queen Street East. While voting will be opened until December 17th\, you can continue to explore and enjoy the windows in person and virtually. Don’t forget that now more than ever is the time to support local! \nTHX to Our 2023 Community Supporters – The Champions of Queen East Window Wonderland program has been funded by the City of Toronto’s Transit Expansion Construction Mitigation Grant\, as part of Government of Canada support through Fed Dev Ontario\, Riverside BIA\, and Leslieville BIA. 
URL:https://riverside-to.com/event/window-wonderland-champions-of-queen-east-23-edition/
LOCATION:Ontario
ATTACH;FMTTYPE=image/png:https://riverside-to.com/wp-content/uploads/2023/12/WW-2023-Website-Banner-1.png
END:VEVENT
END:VCALENDAR