BEGIN:VCALENDAR
VERSION:2.0
PRODID:-//Riverside Toronto - ECPv6.6.4.2//NONSGML v1.0//EN
CALSCALE:GREGORIAN
METHOD:PUBLISH
X-ORIGINAL-URL:https://riverside-to.com
X-WR-CALDESC:Events for Riverside Toronto
REFRESH-INTERVAL;VALUE=DURATION:PT1H
X-Robots-Tag:noindex
X-PUBLISHED-TTL:PT1H
BEGIN:VTIMEZONE
TZID:America/Toronto
BEGIN:DAYLIGHT
TZOFFSETFROM:-0500
TZOFFSETTO:-0400
TZNAME:EDT
DTSTART:20240310T070000
END:DAYLIGHT
BEGIN:STANDARD
TZOFFSETFROM:-0400
TZOFFSETTO:-0500
TZNAME:EST
DTSTART:20241103T060000
END:STANDARD
END:VTIMEZONE
BEGIN:VEVENT
DTSTART;TZID=America/Toronto:20240115T080000
DTEND;TZID=America/Toronto:20240202T190000
DTSTAMP:20260423T083335
CREATED:20240115T180545Z
LAST-MODIFIED:20240115T180654Z
UID:23683-1705305600-1706900400@riverside-to.com
SUMMARY:Riverside Winter Warm Up Toronto Food Blog series
DESCRIPTION:Get ready to Warm Up…With some great local Riverside spots we will be featuring in collab with @torontofoodblog \n\nWe’re featuring great local eateries & cafés every Monday & Friday until Feb 2nd\, presenting different featured items you could warm up with this winter! In these features you’ll get to see either a selection from new winter menus or some local favourites. \nBe sure to follow us\, like & save these for later as a reminder for your next lunch or dinner plans and keep following for the next feature. \nToronto Food Blog is a local food blogger that features eateries across the GTA\, and has collaborated with us on several joint campaigns in the past\, helping us highlight our amazing businesses. We are excited to partner up with them again this year. So stay tuned for some awesome features and be sure to tag us on the ones you try! \nFollow us on Instagram or Facebook to check out all the features
URL:https://riverside-to.com/event/riverside-winter-warm-up-toronto-food-blog-series/
ATTACH;FMTTYPE=image/jpeg:https://riverside-to.com/wp-content/uploads/2024/01/FoodBlog2024.jpg
END:VEVENT
END:VCALENDAR