BEGIN:VCALENDAR
VERSION:2.0
PRODID:-//Riverside Toronto - ECPv6.6.4.2//NONSGML v1.0//EN
CALSCALE:GREGORIAN
METHOD:PUBLISH
X-ORIGINAL-URL:https://riverside-to.com
X-WR-CALDESC:Events for Riverside Toronto
REFRESH-INTERVAL;VALUE=DURATION:PT1H
X-Robots-Tag:noindex
X-PUBLISHED-TTL:PT1H
BEGIN:VTIMEZONE
TZID:America/Toronto
BEGIN:DAYLIGHT
TZOFFSETFROM:-0500
TZOFFSETTO:-0400
TZNAME:EDT
DTSTART:20250309T070000
END:DAYLIGHT
BEGIN:STANDARD
TZOFFSETFROM:-0400
TZOFFSETTO:-0500
TZNAME:EST
DTSTART:20251102T060000
END:STANDARD
END:VTIMEZONE
BEGIN:VEVENT
DTSTART;TZID=America/Toronto:20250127T080000
DTEND;TZID=America/Toronto:20250226T170000
DTSTAMP:20260423T083652
CREATED:20250113T200441Z
LAST-MODIFIED:20250224T041150Z
UID:25046-1737964800-1740589200@riverside-to.com
SUMMARY:Riverside Local Love
DESCRIPTION:See all Weekly Winners listed below and STAY TUNED here and to our social media (Facebook and Instagram) for the announcement of Grand Prize Winners on Feb 26th! \nThroughout this past month we’ve shared local love through business features\, events\, and our fabulous Weekly and Grand Prizes\, as a thanks for showing YOUR local love! \nThanks to everyone who entered the raffle and took part in sharing local love. \n\nP.S. Our big LOCAL sign will be sticking around a bit longer! \n \nThank you to the City of Toronto and Government of Canada’s Transit Construction Mitigation Grant for support of the Riverside Local Love project. \nThanks also goes to The Opera House and to The Broadview Hotel for their generous donations of the Grand Prizes.
URL:https://riverside-to.com/event/riverside-local-love/
LOCATION:Riverside BIA\, Toronto\, ON\, M4M1G3\, Canada
ATTACH;FMTTYPE=image/png:https://riverside-to.com/wp-content/uploads/2025/02/Riverside-Local-Love.png
END:VEVENT
BEGIN:VEVENT
DTSTART;TZID=America/Toronto:20250131T120000
DTEND;TZID=America/Toronto:20250131T130000
DTSTAMP:20260423T083652
CREATED:20250128T000638Z
LAST-MODIFIED:20250128T001512Z
UID:25103-1738324800-1738328400@riverside-to.com
SUMMARY:Pop-up for Riverside Local Love
DESCRIPTION:Come join the Riverside BIA as we pop up beside the Queen Garden Centre for Riverside Local Love! Learn more about the campaign\, there will be freebies and games\, plus enter our raffle today (and daily until Feb 23rd!). Plus take a selfie with our big Love Local sign!
URL:https://riverside-to.com/event/pop-up-for-riverside-local-love/
LOCATION:775 Queen Street East
CATEGORIES:General Interest
ATTACH;FMTTYPE=image/png:https://riverside-to.com/wp-content/uploads/2025/01/Riverside-Love-Local-Sign-1.png
ORGANIZER;CN="Riverside BIA":MAILTO:office@riverside-to.com
END:VEVENT
END:VCALENDAR