BEGIN:VCALENDAR
VERSION:2.0
PRODID:-//Riverside Toronto - ECPv6.6.4.2//NONSGML v1.0//EN
CALSCALE:GREGORIAN
METHOD:PUBLISH
X-WR-CALNAME:Riverside Toronto
X-ORIGINAL-URL:https://riverside-to.com
X-WR-CALDESC:Events for Riverside Toronto
REFRESH-INTERVAL;VALUE=DURATION:PT1H
X-Robots-Tag:noindex
X-PUBLISHED-TTL:PT1H
BEGIN:VTIMEZONE
TZID:America/Toronto
BEGIN:DAYLIGHT
TZOFFSETFROM:-0500
TZOFFSETTO:-0400
TZNAME:EDT
DTSTART:20240310T070000
END:DAYLIGHT
BEGIN:STANDARD
TZOFFSETFROM:-0400
TZOFFSETTO:-0500
TZNAME:EST
DTSTART:20241103T060000
END:STANDARD
END:VTIMEZONE
BEGIN:VEVENT
DTSTART;TZID=America/Toronto:20240504T093000
DTEND;TZID=America/Toronto:20240504T140000
DTSTAMP:20260420T070157
CREATED:20240406T001230Z
LAST-MODIFIED:20240406T001230Z
UID:24050-1714815000-1714831200@riverside-to.com
SUMMARY:Bake My Day: Bake sale for a cause
DESCRIPTION:The South Riverdale Child-Parent Centre is back with its annual fundraising event Bake My Day\, a bake sale for a cause happening on May 4\, 2024 (Saturday) from 9:30 a.m. to 2 p.m. at the corner of 765 Queen Street East in Toronto’s Riverside. \nGet delicious treats from local bakers and help raise funds for SRCPC’s programming! \nBake My Day 2024 is presented by TutorMe Toronto.
URL:https://riverside-to.com/event/bake-sale-for-a-cause/
LOCATION:765 Queen Street East\, Ralph Thornton Community Centre\, Toronto\, Canada
CATEGORIES:General Interest
ATTACH;FMTTYPE=image/png:https://riverside-to.com/wp-content/uploads/2024/04/SRCPCs-Bake-Sale-2024.png
END:VEVENT
BEGIN:VEVENT
DTSTART;TZID=America/Toronto:20240504T120000
DTEND;TZID=America/Toronto:20240504T160000
DTSTAMP:20260420T070157
CREATED:20240415T181759Z
LAST-MODIFIED:20240415T181759Z
UID:24080-1714824000-1714838400@riverside-to.com
SUMMARY:Culinary Historians of Canada Book Sale
DESCRIPTION:To all the book lovers\, cookbook collectors\, food historians\, curious chefs — EYES HERE! \nThousands of delicious food-related books are up for grabs at Toronto’s biggest cookbook sale happening on Saturday\, May 4\, 2024 (noon – 4pm) on the second floor of Ralph Thornton Community Centre\, 765 Queen Street East in Toronto’s Riverside neighborhood. \nThis is a fundraiser for Culinary Historians of Canada. Admission is FREE! This event is open to all. \nFor more information\, click here.
URL:https://riverside-to.com/event/culinary-historians-of-canada-book-sale/
LOCATION:Ralph Thornton Community Centre\, 765 Queen St East\, Toronto\, Ontario\, M4M 1H3\, Canada
CATEGORIES:General Interest
ATTACH;FMTTYPE=image/jpeg:https://riverside-to.com/wp-content/uploads/2024/04/CHC-Book-Sale-flyer-2.jpg
END:VEVENT
END:VCALENDAR